BEGIN:VCALENDAR
VERSION:2.0
PRODID:-//Infotetquebec - ECPv6.15.20//NONSGML v1.0//EN
CALSCALE:GREGORIAN
METHOD:PUBLISH
X-WR-CALNAME:Infotetquebec
X-ORIGINAL-URL:https://www.infotetquebec.com/en/
X-WR-CALDESC:Events for Infotetquebec
REFRESH-INTERVAL;VALUE=DURATION:PT1H
X-Robots-Tag:noindex
X-PUBLISHED-TTL:PT1H
BEGIN:VTIMEZONE
TZID:America/Toronto
BEGIN:DAYLIGHT
TZOFFSETFROM:-0500
TZOFFSETTO:-0400
TZNAME:EDT
DTSTART:20240310T070000
END:DAYLIGHT
BEGIN:STANDARD
TZOFFSETFROM:-0400
TZOFFSETTO:-0500
TZNAME:EST
DTSTART:20241103T060000
END:STANDARD
BEGIN:DAYLIGHT
TZOFFSETFROM:-0500
TZOFFSETTO:-0400
TZNAME:EDT
DTSTART:20250309T070000
END:DAYLIGHT
BEGIN:STANDARD
TZOFFSETFROM:-0400
TZOFFSETTO:-0500
TZNAME:EST
DTSTART:20251102T060000
END:STANDARD
BEGIN:DAYLIGHT
TZOFFSETFROM:-0500
TZOFFSETTO:-0400
TZNAME:EDT
DTSTART:20260308T070000
END:DAYLIGHT
BEGIN:STANDARD
TZOFFSETFROM:-0400
TZOFFSETTO:-0500
TZNAME:EST
DTSTART:20261101T060000
END:STANDARD
END:VTIMEZONE
BEGIN:VEVENT
DTSTART;TZID=America/Toronto:20250809T100000
DTEND;TZID=America/Toronto:20250809T150000
DTSTAMP:20260421T060217
CREATED:20250801T132804Z
LAST-MODIFIED:20250801T132925Z
UID:21888-1754733600-1754751600@www.infotetquebec.com
SUMMARY:Drummondville\, QC/Sports Fair
DESCRIPTION:Drummondville\, QC/Sports Fair \n📍 Complexe Sportif Drummondville (1380\, rue Montplaisir Drummondville QC J2C 0M6)\n  📅 09-august-2025\n🕐 10h00-15h00 \n👉 This activity is intended for temporary foreign workers (with a closed work permit). \nPlease follow the instructions shown on the event poster. \nFree for foreign workers with a closed permit. \nRegistration deadline: August 8\, 2025 \nDrummond économique is pleased to invite you to get moving at the Sports Fair!\nThis sports initiative is organized by Drummondville Sports at the Drummondville Sports Complex.\nAlone\, with family or friends\, bring your sportswear 👕👟 and your swimsuit 👙 to move with us! You will be able to discover all the associations\, organizations and sports attractions in the region\, while developing healthy lifestyle habits.
URL:https://www.infotetquebec.com/en/event/drummondville-qc-sports-fair/
LOCATION:1380\, rue Montplaisir Drummondville QC J2C 0M6
CATEGORIES:Cultural or sports activity,Social activity
ATTACH;FMTTYPE=image/png:https://www.infotetquebec.com/wp-content/uploads/2025/08/Accueil-Activites-Foire-sportive.png
END:VEVENT
END:VCALENDAR