BEGIN:VCALENDAR
VERSION:2.0
PRODID:-//Infotetquebec - ECPv6.15.20//NONSGML v1.0//EN
CALSCALE:GREGORIAN
METHOD:PUBLISH
X-WR-CALNAME:Infotetquebec
X-ORIGINAL-URL:https://www.infotetquebec.com/en/
X-WR-CALDESC:Events for Infotetquebec
REFRESH-INTERVAL;VALUE=DURATION:PT1H
X-Robots-Tag:noindex
X-PUBLISHED-TTL:PT1H
BEGIN:VTIMEZONE
TZID:America/New_York
BEGIN:DAYLIGHT
TZOFFSETFROM:-0500
TZOFFSETTO:-0400
TZNAME:EDT
DTSTART:20220313T070000
END:DAYLIGHT
BEGIN:STANDARD
TZOFFSETFROM:-0400
TZOFFSETTO:-0500
TZNAME:EST
DTSTART:20221106T060000
END:STANDARD
BEGIN:DAYLIGHT
TZOFFSETFROM:-0500
TZOFFSETTO:-0400
TZNAME:EDT
DTSTART:20230312T070000
END:DAYLIGHT
BEGIN:STANDARD
TZOFFSETFROM:-0400
TZOFFSETTO:-0500
TZNAME:EST
DTSTART:20231105T060000
END:STANDARD
BEGIN:DAYLIGHT
TZOFFSETFROM:-0500
TZOFFSETTO:-0400
TZNAME:EDT
DTSTART:20240310T070000
END:DAYLIGHT
BEGIN:STANDARD
TZOFFSETFROM:-0400
TZOFFSETTO:-0500
TZNAME:EST
DTSTART:20241103T060000
END:STANDARD
END:VTIMEZONE
BEGIN:VEVENT
DTSTART;TZID=America/New_York:20230211T110000
DTEND;TZID=America/New_York:20230211T160000
DTSTAMP:20260421T054459
CREATED:20230208T160152Z
LAST-MODIFIED:20230208T160243Z
UID:5640-1676113200-1676131200@www.infotetquebec.com
SUMMARY:Winter carnival
DESCRIPTION:Winter carnival organized by the Peruvian Association of Estrie. \nIncluded : meal and hot drinks! \nFree entrance at Parc de Saint-Alphonse-de-Liguori
URL:https://www.infotetquebec.com/en/event/carnaval-de-invierno/
LOCATION:Parc de Saint-Alphonse-de-Liguori\, Sherbrooke\, Québec\, Canada
CATEGORIES:Cultural or sports activity
ATTACH;FMTTYPE=image/png:https://www.infotetquebec.com/wp-content/uploads/2023/02/Capture-decran-le-2023-02-08-a-10.56.47.png
END:VEVENT
END:VCALENDAR